BEGIN:VCALENDAR
PRODID:-//eluceo/ical//2.0/EN
VERSION:2.0
CALSCALE:GREGORIAN
BEGIN:VEVENT
UID:event-521
DTSTAMP:20260424T170557Z
SUMMARY:PARADOX | Dies Week
DESCRIPTION:Are you ready to celebrate 129 years of Stylos the 20 – 24th 
 of February? Enjoy this year DIES week\, themed PARADOX\,  full of intere
 sting lectures\, from big architects like Paul de Ruiter and Carolyn Leung
  from Superimpose to funnily paradoxal activities like fine dining at our 
 own Bouwpub: the ‘129 Dinner’ on Monday\, a massage course at our own 
 faculty on Tuesday as well as the Dies Festival – PARADOX presented to y
 ou by Enginear in Toffler (Rotterdam) on the Thursday! MONDAY 20 FEB Lectu
 re by Paul de Ruiter | 12:45 - 13:45 Orangehall Paul de Ruiter and his ar
 chitectural firm of the same name have worked on major projects within the
  architectural world. But where does he get his inspiration for a new proj
 ect? How does such a brainstorming process work in a big company? And on a
 nother note\, what is it like to make changes as a great architect and how
  should we make them in the world of architecture? Hear it all in Paul de 
 Ruiter's lecture. (First 30 people get a sandwich\, so make sure you’re 
 on time!). Bouwpub dinner | 17:00 - 21:00 Have you always wanted to attend
  a fancy dinner in the Bouwpub? Kick off the Dies week on Monday with a th
 ree-course dinner in your favourite faculty pub on campus! Bring all your 
 friends and have yourself a fancy dinner for only €16\,50\, dressed in t
 he theme of black and white. The first three drinks are on us. Sounds gre
 at\, right? Sign up is required\, buy your ticket here! TUESDAY 21 FEB Mas
 sage course | 12:45 - 13:45 Hall P  During the lunch break on Tuesday\, w
 e organize a stress relief massage course. The workshop focuses on the wel
 l-being of architecture students by de-stressing the body. Afterwards\,  
 you will have a better idea of ​​how to deal with study stress and wil
 l know how to give your study buddy a good neck and shoulder massage after
  a long study session.This workshop focuses on a neck and shoulder massage
 \, so clothes don't have to be taken off. Sign up in pairs is required\, w
 ith someone you feel safe and comfortable with. Sign up here! WEDNESDAY 22
  FEB Lecture superimpose | 12:45 - 13:45 Orangehall During the break on We
 dnesday\, there will be a lecture by Carolyn Leung. Carolyn studied at the
  TU Delft and is now director and co-founder of the international architec
 ture office Superimpose Architecture with offices in Beijing\, Hong Kong a
 nd\, more recently\, in Rotterdam. In the lecture\, she will talk about he
 r entrepreneurial experience in China as someone who just graduated. How d
 o you set up your own business\, and what is it like to be an architect? S
 ee you at the orange hall during the break! THURSDAY 23 FEB BK-Bake off by
  12H committee | 12:45 - 13:45 Hall K Take a break from studying and enter
  the cake decorating contest hosted by the 12hrs committee! Sign up here! 
 PARADOX Festival | 21:00 - 03:00 Toffler Rotterdam Enjoy\, laugh and dance
  at Paradox Dies festival in Toffler (Rotterdam)\, a live house\, techno a
 nd dance festival celebrating the 129th birthday of D.B.S.G. Stylos. Featu
 ring amazing DJs from in and around Delft such as Mia Cecile\, V-NO and Co
 llectief 91! February 23rd we’re all able to dance the night away at Tof
 fler starting from 21:00 until 03:30!  Get your ticket now! FRIDAY 24 FEB
  Clay sculpting workshop by Action committee | 12:45 - 13:45 Hall K Let yo
 ur creativity run wild in the claying workshop of the Action Committee! To
 gether we will clay plant pots to add some green to your room at home. The
  pots will be drying over the weekend and can be picked up including a sma
 ll plant next Monday.  Registrations are closed as all places have been f
 illed. 
DTSTART:20230220T160000Z
DTEND:20230224T124500Z
END:VEVENT
BEGIN:VTIMEZONE
TZID:UTC
BEGIN:STANDARD
DTSTART:20230220T160000
TZNAME:UTC
TZOFFSETTO:+0000
TZOFFSETFROM:+0000
END:STANDARD
END:VTIMEZONE
END:VCALENDAR
