BEGIN:VCALENDAR
PRODID:-//eluceo/ical//2.0/EN
VERSION:2.0
CALSCALE:GREGORIAN
BEGIN:VEVENT
UID:event-449
DTSTAMP:20260422T071938Z
SUMMARY:DISCUSSION NIGHT
DESCRIPTION:This Wednesday (May 4th) we are organising a discussion evening
  because of theme of the Display and Discuss Exhibition in the Faculty of 
 Architecture. We welcome all voices to join us during this evening where w
 e discuss the topic of Gender in the our workfield\, architecture. This sp
 ecial night will be held at Café the Klooster in Delft\, a brown cafe wit
 h a welcoming atmosphere. We'll be there from 20:30 to 22:30 on May 4th. Y
 ou don't have to sign up an dit's totally free. We hope to see you all the
 re!
DTSTART:20220504T183000Z
DTEND:20220504T203000Z
END:VEVENT
BEGIN:VTIMEZONE
TZID:UTC
BEGIN:STANDARD
DTSTART:20220504T183000
TZNAME:UTC
TZOFFSETTO:+0000
TZOFFSETFROM:+0000
END:STANDARD
END:VTIMEZONE
END:VCALENDAR
