BEGIN:VCALENDAR
PRODID:-//eluceo/ical//2.0/EN
VERSION:2.0
CALSCALE:GREGORIAN
BEGIN:VEVENT
UID:event-390
DTSTAMP:20260422T234645Z
SUMMARY:INDESIGN WORKSHOP
DESCRIPTION:Een groot deel van jullie weet waarschijnlijk nog niet helemaal
  hoe InDesign werkt. Op vrijdag 3 december is er daarom in de pauze (12:45
  tot 13:45) een InDesign workshop voor alle eerstejaars! De workshop zal p
 laatsvinden in zaal A.  Je kan tijdens de workshop een broodje kopen :). 
 Ook is het belangrijk om je laptop mee te nemen naar de workshop.  Er zij
 n 75 plekken\, dus schrijf je snel in! Groetjes EJC 128
DTSTART:20211203T114500Z
DTEND:20211203T124500Z
END:VEVENT
BEGIN:VTIMEZONE
TZID:UTC
BEGIN:STANDARD
DTSTART:20211203T114500
TZNAME:UTC
TZOFFSETTO:+0000
TZOFFSETFROM:+0000
END:STANDARD
END:VTIMEZONE
END:VCALENDAR
