BEGIN:VCALENDAR
PRODID:-//eluceo/ical//2.0/EN
VERSION:2.0
CALSCALE:GREGORIAN
BEGIN:VEVENT
UID:event-846
DTSTAMP:20260421T143015Z
SUMMARY:BK Football Tournament | 132
DESCRIPTION:Join us on Thursday\, May 28th for an exciting afternoon of f
 ootball as students and staff from the BK faculty come together to compet
 e in a friendly tournament. Teams will face off in multiple matches 7 agai
 nst 7\, all aiming for the championship title! The event takes place at X 
 with several matches from 16.00 till 17.30. After the action on the fiel
 d\, players are invited to enjoy a free (vegetarian) meal and drinks toge
 ther.   Put together a full team of 8 or 7 players\, or sign up with 
 1 to 4 and we’ll help complete your team. If you are unable to particip
 ate in the sportsevent due to an injury or disability\, but want to attend
  anyways\, please send an email to wellbeing@stylos.nl and and then we wil
 l find a suitable way for you to participate. Be aware that ALL TEAM MEMBE
 RS MUST REGISTER INDIVIDUALLY! Registrations close on Monday May 22nd at
  23.59\, so sign up fast because FULL = FULL!! See you then!
DTSTART:20260528T140000Z
DTEND:20260528T180000Z
END:VEVENT
BEGIN:VTIMEZONE
TZID:UTC
BEGIN:STANDARD
DTSTART:20260528T140000
TZNAME:UTC
TZOFFSETTO:+0000
TZOFFSETFROM:+0000
END:STANDARD
END:VTIMEZONE
END:VCALENDAR
