BEGIN:VCALENDAR
PRODID:-//eluceo/ical//2.0/EN
VERSION:2.0
CALSCALE:GREGORIAN
BEGIN:VEVENT
UID:event-172
DTSTAMP:20260419T234232Z
SUMMARY:Workshop | ON Presentation Skills
DESCRIPTION:Wil jij werken aan je posters en eindpresentatie voor het ON-va
 k dat je nu volgt? Kom dan op donderdag 13 juni naar de workshop presenter
 en\, gegeven door Siebe Bakker. Hier leer je hoe je jouw ontwerp het best 
 uit kan leggen aan een publiek en werk je tegelijkertijd aan de poster die
  daarbij hoort. ---  Do you want to work on your presentation skills? The
 n come to the workshop presenting on Thursday June 13\, given by Siebe Bak
 ker. Work on how to present your project both in conversation and in poste
 rs.
DTSTART:20190613T114500Z
DTEND:20190613T160000Z
END:VEVENT
BEGIN:VTIMEZONE
TZID:UTC
BEGIN:STANDARD
DTSTART:20190613T114500
TZNAME:UTC
TZOFFSETTO:+0000
TZOFFSETFROM:+0000
END:STANDARD
END:VTIMEZONE
END:VCALENDAR
